Workbook

Sheet Tätigkeitsbeschreibung_Honorar
A1: Tätigkeitsbeschreibung im Programm "Sozialer Zusammenhalt"
A2: Projekt-Nr.:
A4: Projektname: | L4: A | M4: I | N4: 1 | O4: E 1 | P4: 1 | Q4: S8b | R4: 1.1
L5: B | M5: II | N5: 2 | O5: E 2 | P5: 2 | Q5: S9 | R5: 1.2
L6: C | M6: III | N6: 3 | O6: E 3 | P6: 3 | Q6: S11b | R6: 1.3
A7: Fördernehmende: | N7: 4 | O7: E 4 | P7: 4 | Q7: S12 | R7: 1.4
N8: 5 | O8: E 5 | P8: 5 | Q8: S13 | R8: 1.5
O9: E 6 | P9: 6 | Q9: S14 | R9: 2.1
A10: Projektlaufzeit: | D10: bis | O10: E 7 | Q10: S15 | R10: 2.2
O11: E 8 | Q11: S17 | R11: 2.3
A12: I. Angaben zur Honorartätigkeit | O12: E 9b | Q12: S18 | R12: 2.4
O13: E 10 | R13: 2.5
A14: Bezeichnung der Honorartätigkeit: | O14: E 11 | R14: 3.1
O15: E 12 | R15: 3.2
A16: Sofern mehrere Honorarkräfte dieselbe Tätigkeit ausüben, bitte Benennung in der nachfolgenden Tabelle, ansonsten Verwendung getrennter Tätigkeitsbeschreibungen | O16: E 13 | R16: 3.3
B17: Name Honorarkraft | C17: Vorhandene Qualifikation/ Qualifikationen | G17: Zu leistende Stunden im Projekt | O17: E 14 | R17: 3.4
A18: 1. | O18: E 15
A19: 2.
A20: 3.
A21: 4.
A22: 5.
A24: Kurze Beschreibung der auszuübenden Tätigkeit
A31: Stundensatz (= 60 Min):
A33: Ermittlung des Stundensatzes nach:
A34: (bitte Angaben nur bei der zutreffenden Vorschrift auswählen) | F34: Ja | G34: Nein | H34: Hinweis
A35: a) | B35: Verwaltungsvorschriften für Honorare im Bereich Sozialwesen (HonVSoz) | H35: der Stundensatz (Zeile 31) muss sich innerhalb Ihrer ermittelten Gruppe bewegen
B37: Abschnitt:
B38: Unterabschnitt:
B39: Gruppe:
A41: b) | B41: Bandbreitenregelung der SenFin - Vergütung der Tätigkeit der Freien Mitarbeiter*innen (Rundschreiben 21/2026) | H41: innerhalb der Gruppe 3 können auch allg. Bereiche berücksichtigt werden
B43: Gruppe:
A45: c) | B45: Ausführungsvorschriften für Honorare im Geschäftsbereich der Kinder- und Jugendhilfe
A46: Höhe des Honorars gem. Bandbreitenregelung SenFin
B47: Gruppe:
A48: d) | B48: Orientierung an den Entgeltgruppen des TV-L | H48: Allg. Berechnung: AN-Brutto lt. TV-L/ (39,4*4) zzgl. ca. 21% AG-Anteil Beispiele: TV-L 2026 E 9b/3 4.035,07 €/(39,4*4) *1,21 =30,98 € TV-LS 2026 S 9/3 4.155,77 €/(39,4*4) *1,21 =31,90 €
B49: Entgeltgruppe
B50: Erfahrungsstufe
A51: TV-L Berlin
A53: e) | B53: Orientierung an den Entgeltgruppen des TV-LS
B54: Entgeltgruppe
B55: Erfahrungsstufe
A56: TV-LS-Berlin

Sheet Stundennachweis_Anlage_Rechnung
A1: Stundennachweis im Programm "Sozialer Zusammenhalt"
A2: Projekt-Nr.: | D2: =Tätigkeitsbeschreibung_Honorar!C2 -> 0
A4: Projektname: | D4: =Tätigkeitsbeschreibung_Honorar!C4 -> 0
D5: =Tätigkeitsbeschreibung_Honorar!C5 -> 0
A7: Fördernehmende: | D7: =Tätigkeitsbeschreibung_Honorar!C7 -> 0
D8: =Tätigkeitsbeschreibung_Honorar!C8 -> 0
A10: Projektlaufzeit: | D10: =Tätigkeitsbeschreibung_Honorar!C10 -> 0 | E10: - | F10: =Tätigkeitsbeschreibung_Honorar!F10 -> 0
A12: Bitte beachten Sie, dass ab einem Honorar von über 150,00 € netto (bezogen auf die gesamte Projektlaufzeit) ein Honorarvertrag abzuschließen ist (siehe auch Förderglossar).
A13: Link zu Förderglossar
A15: Rechnungsnummer:
A17: Bezeichnung der Honorar-Tätigkeit lt. Antrag:
A19: Name Honorarkraft:
A21: Stundensatz:
A23: Monat/Jahr: | E23: /
A25: Datum | B25: von | C25: bis | D25: geleistete Stunden | F25: Tätigkeit
A26: Beispiel | B26: 0.375 | C26: 0.75 | D26: =(C26-B26)*24 -> 9 | F26: Beratung
A27: 46024
D28: =(C28-B28)*24 -> 0
D29: =(C29-B29)*24 -> 0
D30: =(C30-B30)*24 -> 0
D31: =(C31-B31)*24 -> 0
D32: =(C32-B32)*24 -> 0
D33: =(C33-B33)*24 -> 0
D34: =(C34-B34)*24 -> 0
D35: =(C35-B35)*24 -> 0
D36: =(C36-B36)*24 -> 0
D37: =(C37-B37)*24 -> 0
D38: =(C38-B38)*24 -> 0
D39: =(C39-B39)*24 -> 0
... D51: =(C51-B51)*24 -> 0
A52: Summe | D52: =SUM(D28:E51) -> 0
A53: Förderfähiger Betrag | D53: =D52*D21 -> 0
A55: Unterschrift Projektleitung / Personalverantwortung | G55: Unterschrift Honorarkraft
